BEGIN:VCALENDAR
VERSION:2.0
METHOD:PUBLISH
PRODID:SimpleCalendar
X-WR-TIMEZONE:Australia/Melbourne
BEGIN:VEVENT
UID:1@simplecalendar-Fairdinkum Fishing Tours - North Queensland
CATEGORIES:The Three Rivers Challenge
CLASS:PUBLIC
DTSTAMP:20200226T022530Z
CREATED:20200226T022530Z
SUMMARY:Three Rivers Challenge (Live Baiting)
DESCRIPTION:Live Bait Fishing Adventure: Based  in Townsville, at your choice of acco mmodation, you will fish daily in a  different location. Each morning. you 'lll be involved in the collection  of live bait and the guides will selec t the best structures to attack.   Live Bait Fishing is available most of  the year with the best fishing  from February through April.Three Rivers L ive Baiting Adventures min of (2) per vessel max of (4) For more informat ion, please visit our Charters Page. To contact us regarding a reservatio ns, please Contact Us.
LOCATION:Townsville, NQ
LAST-MODIFIED:20110201T022009Z
TRANSP:OPAQUE
DTSTART;VALUE=DATE:20110218
DTEND;VALUE=DATE:20110221
END:VEVENT
BEGIN:VEVENT
UID:2@simplecalendar-Fairdinkum Fishing Tours - North Queensland
CATEGORIES:The Three Rivers Challenge
CLASS:PUBLIC
DTSTAMP:20200226T022530Z
CREATED:20200226T022530Z
SUMMARY:Three Rivers Challenge (Live Baiting)
DESCRIPTION:Live Bait Fishing Adventure: Based  in Townsville, at your choice of acco mmodation, you will fish daily in a  different location. Each morning. you 'lll be involved in the collection  of live bait and the guides will selec t the best structures to attack.   Live Bait Fishing is available most of  the year with the best fishing  from February through April.Three Rivers L ive Baiting Adventures min of (2) per vessel max of (4) For more informat ion, please visit our Charters Page. To contact us regarding a reservatio ns, please Contact Us.
LOCATION:Townsville, NQ
LAST-MODIFIED:20110201T022046Z
TRANSP:OPAQUE
DTSTART;VALUE=DATE:20110225
DTEND;VALUE=DATE:20110228
END:VEVENT
BEGIN:VEVENT
UID:3@simplecalendar-Fairdinkum Fishing Tours - North Queensland
CATEGORIES:The Three Rivers Challenge
CLASS:PUBLIC
DTSTAMP:20200226T022530Z
CREATED:20200226T022530Z
SUMMARY:Three Rivers Challenge (Live Baiting)
DESCRIPTION:Live Bait Fishing Adventure: Based  in Townsville, at your choice of acco mmodation, you will fish daily in a  different location. Each morning. you 'lll be involved in the collection  of live bait and the guides will selec t the best structures to attack.   Live Bait Fishing is available most of  the year with the best fishing  from February through April.Three Rivers L ive Baiting Adventures min of (2) per vessel max of (4) For more informat ion, please visit our Charters Page. To contact us regarding a reservatio ns, please Contact Us.
LOCATION:Townsville, NQ
LAST-MODIFIED:20110201T022155Z
TRANSP:OPAQUE
DTSTART;VALUE=DATE:20110301
DTEND;VALUE=DATE:20110304
END:VEVENT
BEGIN:VEVENT
UID:16@simplecalendar-Fairdinkum Fishing Tours - North Queensland
CATEGORIES:The Three Rivers Challenge
CLASS:PUBLIC
DTSTAMP:20200226T022530Z
CREATED:20200226T022530Z
SUMMARY:Three Rivers Challenge (Lure & Live Baiting)
DESCRIPTION:Lure and Live Bait Fishing Adventure: Based  in Townsville, at your choic e of accommodation, you will fish daily in a  different location. Each mor ning. you'lll be involved in the collection  of live bait and the guides w ill select the best structures to attack.   Live Bait Fishing is available  most of the year with the best fishing  from February through April. For  more information, please visit our Charters Page. To contact us regardin g a reservations, please Contact Us.
LOCATION:Townsville, NQ
LAST-MODIFIED:20110201T024037Z
TRANSP:OPAQUE
DTSTART;VALUE=DATE:20110902
DTEND;VALUE=DATE:20110905
END:VEVENT
BEGIN:VEVENT
UID:17@simplecalendar-Fairdinkum Fishing Tours - North Queensland
CATEGORIES:The Three Rivers Challenge
CLASS:PUBLIC
DTSTAMP:20200226T022530Z
CREATED:20200226T022530Z
SUMMARY:Three Rivers Challenge (Lure & Live Baiting)
DESCRIPTION:Lure and Live Bait Fishing Adventure: Based  in Townsville, at your choic e of accommodation, you will fish daily in a  different location. Each mor ning. you'lll be involved in the collection  of live bait and the guides w ill select the best structures to attack.   Live Bait Fishing is available  most of the year with the best fishing  from February through April. For  more information, please visit our Charters Page. To contact us regardin g a reservations, please Contact Us.
LOCATION:Townsville, NQ
LAST-MODIFIED:20110201T024158Z
TRANSP:OPAQUE
DTSTART;VALUE=DATE:20110916
DTEND;VALUE=DATE:20110919
END:VEVENT
END:VCALENDAR