BEGIN:VCALENDAR
VERSION:2.0
METHOD:PUBLISH
PRODID:SimpleCalendar
X-WR-TIMEZONE:Australia/Melbourne
BEGIN:VEVENT
UID:4@simplecalendar-Fairdinkum Fishing Tours - North Queensland
CATEGORIES:The Five River Run
CLASS:PUBLIC
DTSTAMP:20200226T022553Z
CREATED:20200226T022553Z
SUMMARY:Five River Run (Lure)
DESCRIPTION:Lure Fishing Adventure: Based  in Townsville at your choice of accommodat ion, we will fish daily at a  new location, each offering something a litt le different for the sight  casting enthusiast.This adventure is for the f isher wanting that  hunting experience and will see the crew go looking in  all the nooks and  crannies for that prize catch. For more information,  please visit our Charters Page. To contact us regarding a reservations, p lease Contact Us.
LOCATION:Townsvillie, NQ
LAST-MODIFIED:20110201T022642Z
TRANSP:OPAQUE
DTSTART;VALUE=DATE:20110309
DTEND;VALUE=DATE:20110314
END:VEVENT
BEGIN:VEVENT
UID:5@simplecalendar-Fairdinkum Fishing Tours - North Queensland
CATEGORIES:The Five River Run
CLASS:PUBLIC
DTSTAMP:20200226T022553Z
CREATED:20200226T022553Z
SUMMARY:Five River Run (Lure)
DESCRIPTION:Lure Fishing Adventure: Based  in Townsville at your choice of accommodat ion, we will fish daily at a  new location, each offering something a litt le different for the sight  casting enthusiast.This adventure is for the f isher wanting that  hunting experience and will see the crew go looking in  all the nooks and  crannies for that prize catch. For more information,  please visit our Charters Page. To contact us regarding a reservations, p lease Contact Us.
LOCATION:Townsvillie, NQ
LAST-MODIFIED:20110201T022802Z
TRANSP:OPAQUE
DTSTART;VALUE=DATE:20110815
DTEND;VALUE=DATE:20110820
END:VEVENT
END:VCALENDAR