BEGIN:VCALENDAR
VERSION:2.0
METHOD:PUBLISH
PRODID:SimpleCalendar
X-WR-TIMEZONE:Australia/Melbourne
BEGIN:VEVENT
UID:13@simplecalendar-Fairdinkum Fishing Tours - North Queensland
CATEGORIES:The Burdekin to the Brook
CLASS:PUBLIC
DTSTAMP:20200226T022629Z
CREATED:20200226T022629Z
SUMMARY:Burdekin to the Brook (Lure)
DESCRIPTION:Lure Fishing Adventure: Based  in Townsville for the first four days at y our choice of accommodation  you will fish a different location - sight ca sting lures and fly’s in  the water of the Burdekin delta region. For your  last three days we'll  head off to the World Heritage Hinchinbrook Channe l where you will be  sight casting at some of the best fishing grounds Aus tralia has to  offer. For more information, please visit our Charters Pag e. To contact us regarding a reservations, please Contact Us.
LOCATION:Townsvillie, NQ
LAST-MODIFIED:20110201T023719Z
TRANSP:OPAQUE
DTSTART;VALUE=DATE:20110404
DTEND;VALUE=DATE:20110411
END:VEVENT
BEGIN:VEVENT
UID:14@simplecalendar-Fairdinkum Fishing Tours - North Queensland
CATEGORIES:The Burdekin to the Brook
CLASS:PUBLIC
DTSTAMP:20200226T022629Z
CREATED:20200226T022629Z
SUMMARY:Burdekin to the Brook (Lure)
DESCRIPTION:Lure Fishing Adventure: Based  in Townsville for the first four days at y our choice of accommodation  you will fish a different location - sight ca sting lures and fly’s in  the water of the Burdekin delta region. For your  last three days we'll  head off to the World Heritage Hinchinbrook Channe l where you will be  sight casting at some of the best fishing grounds Aus tralia has to  offer. For more information, please visit our Charters Pag e. To contact us regarding a reservations, please Contact Us.
LOCATION:Townsvillie, NQ
LAST-MODIFIED:20110201T023900Z
TRANSP:OPAQUE
DTSTART;VALUE=DATE:20110502
DTEND;VALUE=DATE:20110509
END:VEVENT
BEGIN:VEVENT
UID:15@simplecalendar-Fairdinkum Fishing Tours - North Queensland
CATEGORIES:The Burdekin to the Brook
CLASS:PUBLIC
DTSTAMP:20200226T022629Z
CREATED:20200226T022629Z
SUMMARY:Burdekin to the Brook (Lure)
DESCRIPTION:Lure Fishing Adventure: Based  in Townsville for the first four days at y our choice of accommodation  you will fish a different location - sight ca sting lures and fly’s in  the water of the Burdekin delta region. For your  last three days we'll  head off to the World Heritage Hinchinbrook Channe l where you will be  sight casting at some of the best fishing grounds Aus tralia has to  offer. For more information, please visit our Charters Pag e. To contact us regarding a reservations, please Contact Us.
LOCATION:Townsvillie, NQ
LAST-MODIFIED:20110201T023950Z
TRANSP:OPAQUE
DTSTART;VALUE=DATE:20110908
DTEND;VALUE=DATE:20110915
END:VEVENT
END:VCALENDAR