BEGIN:VCALENDAR
VERSION:2.0
METHOD:PUBLISH
PRODID:SimpleCalendar
X-WR-TIMEZONE:Australia/Melbourne
BEGIN:VEVENT
UID:7@simplecalendar-Fairdinkum Fishing Tours - North Queensland
CATEGORIES:The Channel Challenge
CLASS:PUBLIC
DTSTAMP:20200226T023102Z
CREATED:20200226T023102Z
SUMMARY:Hinchinbrook Channel Challenge (Lure)
DESCRIPTION:Lure Fishing Adventure: This  Adventure is based in Lucinda which at the  southern entrance to the  Famous World Heritage Hinchinbrook Channel. Each  day we'll navigate to a  different section of the channel and fish agains t the spectacular  backdrop of this Heritage site. For more information,  please visit our Charters Page. To contact us regarding a reservations, p lease Contact Us.
LOCATION:Townsvillie, NQ
LAST-MODIFIED:20110201T024244Z
TRANSP:OPAQUE
DTSTART;VALUE=DATE:20110316
DTEND;VALUE=DATE:20110321
END:VEVENT
BEGIN:VEVENT
UID:6@simplecalendar-Fairdinkum Fishing Tours - North Queensland
CATEGORIES:The Channel Challenge
CLASS:PUBLIC
DTSTAMP:20200226T023102Z
CREATED:20200226T023102Z
SUMMARY:Hinchinbrook Channel Challenge (Lure)
DESCRIPTION:Lure Fishing Adventure: This  Adventure is based in Lucinda which at the  southern entrance to the  Famous World Heritage Hinchinbrook Channel. Each  day we'll navigate to a  different section of the channel and fish agains t the spectacular  backdrop of this Heritage site. For more information,  please visit our Charters Page. To contact us regarding a reservations, p lease Contact Us.
LOCATION:Townsvillie, NQ
LAST-MODIFIED:20110201T024303Z
TRANSP:OPAQUE
DTSTART;VALUE=DATE:20110413
DTEND;VALUE=DATE:20110418
END:VEVENT
BEGIN:VEVENT
UID:8@simplecalendar-Fairdinkum Fishing Tours - North Queensland
CATEGORIES:The Channel Challenge
CLASS:PUBLIC
DTSTAMP:20200226T023102Z
CREATED:20200226T023102Z
SUMMARY:Hinchinbrook Channel Challenge (Lure)
DESCRIPTION:Lure Fishing Adventure: This  Adventure is based in Lucinda which at the  southern entrance to the  Famous World Heritage Hinchinbrook Channel. Each  day we'll navigate to a  different section of the channel and fish agains t the spectacular  backdrop of this Heritage site. For more information,  please visit our Charters Page. To contact us regarding a reservations, p lease Contact Us.
LOCATION:Townsvillie, NQ
LAST-MODIFIED:20110201T024327Z
TRANSP:OPAQUE
DTSTART;VALUE=DATE:20110701
DTEND;VALUE=DATE:20110706
END:VEVENT
BEGIN:VEVENT
UID:9@simplecalendar-Fairdinkum Fishing Tours - North Queensland
CATEGORIES:The Channel Challenge
CLASS:PUBLIC
DTSTAMP:20200226T023102Z
CREATED:20200226T023102Z
SUMMARY:Hinchinbrook Channel Challenge (Lure)
DESCRIPTION:Lure Fishing Adventure: This  Adventure is based in Lucinda which at the  southern entrance to the  Famous World Heritage Hinchinbrook Channel. Each  day we'll navigate to a  different section of the channel and fish agains t the spectacular  backdrop of this Heritage site. For more information,  please visit our Charters Page. To contact us regarding a reservations, p lease Contact Us.
LOCATION:Townsvillie, NQ
LAST-MODIFIED:20110201T024346Z
TRANSP:OPAQUE
DTSTART;VALUE=DATE:20110711
DTEND;VALUE=DATE:20110718
END:VEVENT
BEGIN:VEVENT
UID:10@simplecalendar-Fairdinkum Fishing Tours - North Queensland
CATEGORIES:The Channel Challenge
CLASS:PUBLIC
DTSTAMP:20200226T023102Z
CREATED:20200226T023102Z
SUMMARY:Hinchinbrook Channel Challenge (Lure)
DESCRIPTION:Lure Fishing Adventure: This  Adventure is based in Lucinda which at the  southern entrance to the  Famous World Heritage Hinchinbrook Channel. Each  day we'll navigate to a  different section of the channel and fish agains t the spectacular  backdrop of this Heritage site. For more information,  please visit our Charters Page. To contact us regarding a reservations, p lease Contact Us.
LOCATION:Townsvillie, NQ
LAST-MODIFIED:20110201T024400Z
TRANSP:OPAQUE
DTSTART;VALUE=DATE:20110711
DTEND;VALUE=DATE:20110716
END:VEVENT
BEGIN:VEVENT
UID:11@simplecalendar-Fairdinkum Fishing Tours - North Queensland
CATEGORIES:The Channel Challenge
CLASS:PUBLIC
DTSTAMP:20200226T023102Z
CREATED:20200226T023102Z
SUMMARY:Hinchinbrook Channel Challenge (Lure)
DESCRIPTION:Lure Fishing Adventure: This  Adventure is based in Lucinda which at the  southern entrance to the  Famous World Heritage Hinchinbrook Channel. Each  day we'll navigate to a  different section of the channel and fish agains t the spectacular  backdrop of this Heritage site. For more information,  please visit our Charters Page. To contact us regarding a reservations, p lease Contact Us.
LOCATION:Townsvillie, NQ
LAST-MODIFIED:20110201T024416Z
TRANSP:OPAQUE
DTSTART;VALUE=DATE:20110808
DTEND;VALUE=DATE:20110815
END:VEVENT
BEGIN:VEVENT
UID:12@simplecalendar-Fairdinkum Fishing Tours - North Queensland
CATEGORIES:The Channel Challenge
CLASS:PUBLIC
DTSTAMP:20200226T023102Z
CREATED:20200226T023102Z
SUMMARY:Hinchinbrook Channel Challenge (Lure)
DESCRIPTION:Lure Fishing Adventure: This  Adventure is based in Lucinda which at the  southern entrance to the  Famous World Heritage Hinchinbrook Channel. Each  day we'll navigate to a  different section of the channel and fish agains t the spectacular  backdrop of this Heritage site. For more information,  please visit our Charters Page. To contact us regarding a reservations, p lease Contact Us.
LOCATION:Townsvillie, NQ
LAST-MODIFIED:20110201T024436Z
TRANSP:OPAQUE
DTSTART;VALUE=DATE:20110808
DTEND;VALUE=DATE:20110813
END:VEVENT
END:VCALENDAR